BEGIN:VCALENDAR
PRODID:-//Microsoft Corporation//Outlook 10.0 MIMEDIR//EN
VERSION:2.0
METHOD:PUBLISH
BEGIN:VEVENT
ORGANIZER:MAILTO:support@haifaff.co.il
DTSTART:20250727T20000000Z
DTEND:20250727T20000000Z
LOCATION:סינמטק חיפה, שד\' הנשיא 142, מרכז הכרמל
TRANSP:OPAQUE
SEQUENCE:7
UID:040000008200E00074C5B7101A82E00800000000F0307E0C8FD5CF010000000000000000100
 00000CC88F45319E0A54B83B4D642E9F79
RECURRENCE-ID:20141005
DTSTAMP:20260424T123720Z
DESCRIPTION:
		
			
				צ\'ינמה איטליהמחווה למריו מוניצ\'ליג\'ויה ואומברטו חברים ותיקים. היא שחקנית בצ\'ינה-צ\'יטה, הוא נוכל המביים תאונות וישנו גם ללו, כייס מדופלם. בערב ראש השנה החדשה הם מנסים לחגוג ולשרוד עוד לילה ברחובות העיר. שיתוף הפעולה היחיד בין טוטו, מלך הקומדיה העממית לבין אנה מניאני גדולת השחקניות הדרמטיות של הקולנוע האיטלקי. שחושפת הפעם פן מבדח.106 דקות, איטלקית, כתוביות בעברית.
			
		
		
SUMMARY:רומא בחצות
END:VEVENT
END:VCALENDAR