BEGIN:VCALENDAR
PRODID:-//Microsoft Corporation//Outlook 10.0 MIMEDIR//EN
VERSION:2.0
METHOD:PUBLISH
BEGIN:VEVENT
ORGANIZER:MAILTO:support@haifaff.co.il
DTSTART:20250805T18300000Z
DTEND:20250805T18300000Z
LOCATION:סינמטק חיפה, שד\' הנשיא 142, מרכז הכרמל
TRANSP:OPAQUE
SEQUENCE:7
UID:040000008200E00074C5B7101A82E00800000000F0307E0C8FD5CF010000000000000000100
 00000CC88F45319E0A54B83B4D642E9F79
RECURRENCE-ID:20141005
DTSTAMP:20260419T014845Z
DESCRIPTION:
		
			
				שלישי ישראלי: סרט ומפגש20 שנה לפינוי גוש קטיףעשרים שנה אחרי הפינוי - חוזרים אל הסיפור שלא סופר עד הסוף. באמצעות ארכיון נדיר של שיחות ביתיות אינטימיות, שנערכו בשנים הראשונות לאחר עקירת גוש קטיף, מתגלה מציאות רגשית טעונה של כאב, אובדן וחיפוש דרך. המצלמה תיעדה אז רגעים של שבר, תקווה והתמודדות, מתוך הסלון, ליד שולחן השבת, בלב המשפחה. כעת, כעבור שני עשורים, היא שבה אל אותן משפחות, כדי לשאול: מה נותר מהפצע? איך נראית \"ההתנתקות\" היום &ndash; לא מהכותרות, אלא מהלב.דבר הבמאית:בישראל של 2025, צמד המילים \'גוש קטיף\' מעורר בכל אחד עמדה ברורה מראש, בתוך שיח פוליטי שכבר מזמן התקבע. אבל עבור 8000 אנשים, המשמעות של אותו צמד מילים היא בית, קהילה, חיים. עבור רבים מתוכם, הפינוי מהבית נותר אירוע טראומטי, המקפל בתוכו שבר גדול וגעגוע שלא נגמר. \"אנחנו אנשי גוש קטיף \" מביא לראשונה למסך את סיפורם של מי שנעקרו מבתיהם וחוו משבר עמוק שמהדהד בחייהם עד היום. זהו סיפור על המימד האישי והאנושי של ההתנקות, זהו סיפור על אנשים שהציבור הרחב בישראל לא מכיר.זהו לא סרט שמטרתו תחקיר עובדתי, האשמה או נקיטת עמדה פוליטית. \"אנחנו אנשי גוש קטיף\" מאפשר לאנשי הגוש לספר את סיפורם, ומבקש הקשבה מסוג אחר. הסרט מציע מבט חדש, שאולי יש בו אפשרות לתיקון מאוחר באמצעות אמפתיה והתעניינות בחוויות בקולות של אנשי הגוש . התבוננות ההדדית שלי ושל הדמיות המרכזיות בסרט, ממרחק הזמן, מאפשרת מבט רטרוספקטיבי מחד ושאילת שאלות ישירות מאידך כדי לנסות ולקבל תמונה ברורה יותר על השפעותיה של אותה עקירה על אנשי גוש קטיף אז והחברה הישראלית ומאז.60 דקות, עברית, כתוביות בעברית.&nbsp;
			
		
		
SUMMARY:אנחנו אנשי גוש קטיף
END:VEVENT
END:VCALENDAR