BEGIN:VCALENDAR
PRODID:-//Microsoft Corporation//Outlook 10.0 MIMEDIR//EN
VERSION:2.0
METHOD:PUBLISH
BEGIN:VEVENT
ORGANIZER:MAILTO:support@haifaff.co.il
DTSTART:20250808T17300000Z
DTEND:20250808T17300000Z
LOCATION:סינמטק חיפה, שד\' הנשיא 142, מרכז הכרמל
TRANSP:OPAQUE
SEQUENCE:7
UID:040000008200E00074C5B7101A82E00800000000F0307E0C8FD5CF010000000000000000100
 00000CC88F45319E0A54B83B4D642E9F79
RECURRENCE-ID:20141005
DTSTAMP:20260421T043927Z
DESCRIPTION:
		
			
				הקרנת טרום בכורהקולין בן ה-14 עובר לעיר חדשה עם אימו, אבל עם בית ספר חדש וחברים חדשים לספסל הלימודים, עם הגירושים של הוריו, ועם הגמגום הקל שהוא סובל ממנו &ndash; הוא מתקשה להסתגל לסביבה החדשה. כשמורה כריזמטי עם שיטות לימוד יוצאות דופן מחליט להעלות בבית הספר את המחזה המפורסם \"סיראנו דה ברז\'ראק\", קולין יקבל &ndash; אולי לראשונה &ndash; הזדמנות להשמיע את קולו האמיתי.\"לתת את הקול\" היא קומדיה מרגשת, נוגעת ללב ועם ליהוק כובש במיוחד, על ילד אמיץ אחד, על מורה שאכפת לו, ועל הכוח שיש לנו להשפיע על אחרים עם קצת יצירתיות, אופטימיות, ושמחת חיים.123 דקות, צרפתית, תרגום לעברית ולאנגלית.באדיבות בתי קולנוע לב.
			
		
		
SUMMARY:לתת את הקול
END:VEVENT
END:VCALENDAR