BEGIN:VCALENDAR
PRODID:-//Microsoft Corporation//Outlook 10.0 MIMEDIR//EN
VERSION:2.0
METHOD:PUBLISH
BEGIN:VEVENT
ORGANIZER:MAILTO:support@haifaff.co.il
DTSTART:20250910T18150000Z
DTEND:20250910T18150000Z
LOCATION:סינמטק חיפה, שד\' הנשיא 142, מרכז הכרמל
TRANSP:OPAQUE
SEQUENCE:7
UID:040000008200E00074C5B7101A82E00800000000F0307E0C8FD5CF010000000000000000100
 00000CC88F45319E0A54B83B4D642E9F79
RECURRENCE-ID:20141005
DTSTAMP:20260419T011731Z
DESCRIPTION:
		
			
				הקרנת טרום בכורהפסטיבל הקולנוע ירושליםכשנדמה שהחיים של שנדור ובנו הקטן מתחילים סוף-סוף להתייצב לאחר טרגדיה משפחתית, האב מוצא עצמו עד יחיד לתאונה קשה שבה מעורב בנו. שנדור מתקשה להאמין שבנו אחראי למה שקרה. ככל שהחקירה המשטרתית מתקדמת, הוא ניצב בפני החלטה בלתי אפשרית: לומר את האמת ולסכן את העתיד של בנו ושלו, או לשקר, לבגוד בערכיו ולשאת בתוצאות. בסרט ביכורים מדויק ומטלטל, שהוצג במסגרת \"פרספקטיב\" בפסטיבל ברלין, הבמאי באלינט דניאל שוש משרטט מסכת דרמתית מסוגננת וייחודית שהופכת אותו לאחד הקולות המעניינים בקולנוע האירופי החדש.85 דקות, הונגרית, כתוביות בעברית ובאנגלית.באדיבות בתי קולנוע לב.
			
			
				
			
		
		
SUMMARY:כאבי גדילה
END:VEVENT
END:VCALENDAR