BEGIN:VCALENDAR
PRODID:-//Microsoft Corporation//Outlook 10.0 MIMEDIR//EN
VERSION:2.0
METHOD:PUBLISH
BEGIN:VEVENT
ORGANIZER:MAILTO:support@haifaff.co.il
DTSTART:20260518T18000000Z
DTEND:20260518T18000000Z
LOCATION:אולם רפפורט, שד\' הנשיא 138 מרכז הכרמל
TRANSP:OPAQUE
SEQUENCE:7
UID:040000008200E00074C5B7101A82E00800000000F0307E0C8FD5CF010000000000000000100
 00000CC88F45319E0A54B83B4D642E9F79
RECURRENCE-ID:20141005
DTSTAMP:20260421T092223Z
DESCRIPTION:
		
			
				ARIA אופרה בקולנועהלנה היפה/אופנבך &ndash; הפקת בית האופרה של המבורגבהשתתפות הפילהרמונית של המבורג, ג\'ניפר לארמור, פיטר גליארדאופרה שנונה על מניפולציה פוליטית.מרצה: מרב ברק - מרצה לאופרה ואומנויות.&nbsp;האופרה הקומית והמרתקת של ז\'ק אופנבך לוקחת את המיתוס היווני המפורסם על הלנה מטרויה והופכת אותו למסע משעשע, מלא תשוקה ותחכום. הלנה, האישה היפה בעולם, מוצאת את עצמה נקרעת בין חובתה כמלכה לבין תשוקתה הנסתרת לפריס, נסיך טרויה המסתורי והמרגש. בעוד חצר המלוכה רוחשת מזימות ותחבולות, האהבה האסורה הופכת למשחק מסוכן &ndash; ולניצוץ שיצית את מלחמת טרויה הגדולה.קישור לתמה המרכזית: אופנבך יצר סאטירה מבריקה מבחינת שחיטת &ldquo;פרות קדושות&rdquo;. הוא מגחיך סיפור מיתולוגי שנמצא בבסיס תרבות המערב ועושה ממנו פארסה היתולית נועזת ושובבה.הקשר לצנזורה ולמציאות הפוליטית: הצנזורה לא אהבה את הגישה הביקורתית של אופנבך, אך בשל ההומור החד שלו &ndash; הקהל דווקא כן.117 דקות, כתוביות בעברית ובאנגלית.מחיר: 85 ₪. מחיר אזרח ותיק/סטודנט/חייל: 79 ₪. מחיר מנוי סינמטק והסימפונית: 69 ₪.
			
		
		
SUMMARY:ARIA אופרה בקולנוע: הלנה היפה/אופנבך – הפקת בית האופרה של המבורג
END:VEVENT
END:VCALENDAR