BEGIN:VCALENDAR
PRODID:-//Microsoft Corporation//Outlook 10.0 MIMEDIR//EN
VERSION:2.0
METHOD:PUBLISH
BEGIN:VEVENT
ORGANIZER:MAILTO:support@haifaff.co.il
DTSTART:20251025T16300000Z
DTEND:20251025T16300000Z
LOCATION:סינמטק חיפה, שד\' הנשיא 142, מרכז הכרמל
TRANSP:OPAQUE
SEQUENCE:7
UID:040000008200E00074C5B7101A82E00800000000F0307E0C8FD5CF010000000000000000100
 00000CC88F45319E0A54B83B4D642E9F79
RECURRENCE-ID:20141005
DTSTAMP:20260422T043042Z
DESCRIPTION:
		
			
				חגיגה יווניתבאזיל, סופר אנגלי, מגיע ליוון, לבית שהורישו לו הוריו, על מנת לנפוש ולהירגע מטרדותיו. מנוחתו מופרעת על ידי זורבה, יווני אקסצנטרי בגיל העמידה, בעל תאווה גדולה לחיים, המגלה לו את התענוגות הארציים שמציעה יוון. השניים נוסעים לאי כרתים, שם עורך לו זורבה הכרות עם התרבות היוונית על כל צדדיה, צבעיה והטיפוסים המאכלסים אותה, ביניהם היצאנית המזדקנת ומושא חיזוריו של זורבה, מאדאם הורטנס. אנטוני קויין בהופעה גדולה מהחיים, בתפקיד חייו, בעיקר בסצנות הריקוד הנפלאות שהפכו כבר מזמן לקלאסיקה.142 דקות, אנגלית, תרגום לעברית.
			
		
		
SUMMARY:זורבה היווני
END:VEVENT
END:VCALENDAR