BEGIN:VCALENDAR
PRODID:-//Microsoft Corporation//Outlook 10.0 MIMEDIR//EN
VERSION:2.0
METHOD:PUBLISH
BEGIN:VEVENT
ORGANIZER:MAILTO:support@haifaff.co.il
DTSTART:20251102T19450000Z
DTEND:20251102T19450000Z
LOCATION:סינמטק חיפה, שד\' הנשיא 142, מרכז הכרמל
TRANSP:OPAQUE
SEQUENCE:7
UID:040000008200E00074C5B7101A82E00800000000F0307E0C8FD5CF010000000000000000100
 00000CC88F45319E0A54B83B4D642E9F79
RECURRENCE-ID:20141005
DTSTAMP:20260422T085815Z
DESCRIPTION:
		
			
				פסטיבל הסרטים חיפההטרילוגיה הנורווגיתשני חברים טובים, מנקי ארובות, יושבים על גג באוסלו ומנהלים שיחה גלויה על החיים. שניהם נשואים, אנשי משפחה מסורים, אך לאחד מהם היה לאחרונה מפגש מזדמן מיני עם גבר אחר ולשני יש חלומות מטרידים. שניהם נבוכים, מבולבלים, ובשיחות עולות שאלות עמוקות על זהות גברית ומינית, נאמנות ומשפחה, דייוויד בואי והשפעתה של החברה.\"סקס\" הוא הסרט הראשון בטרילוגיה של דאג יוהאן האוגרוד - מן הבמאים הבולטים בקולנוע הסקנדינבי היום. הסרט חכם ורגיש ומציג בצורה שנונה ומלאת עומק את הלבטים של הגיבורים, בנות זוגם וילדיהם, ואת החיים בעיר המודרנית. הסרט הוקרן במהלך השנה תחת השם \"מין אנושי\".125 דקות, נורווגית, כתוביות בעברית ובאנגלית.
			
			
				
			
		
		
SUMMARY:סקס
END:VEVENT
END:VCALENDAR