BEGIN:VCALENDAR
PRODID:-//Microsoft Corporation//Outlook 10.0 MIMEDIR//EN
VERSION:2.0
METHOD:PUBLISH
BEGIN:VEVENT
ORGANIZER:MAILTO:support@haifaff.co.il
DTSTART:20260102T17000000Z
DTEND:20260102T17000000Z
LOCATION:סינמטק חיפה, שד\' הנשיא 142, מרכז הכרמל
TRANSP:OPAQUE
SEQUENCE:7
UID:040000008200E00074C5B7101A82E00800000000F0307E0C8FD5CF010000000000000000100
 00000CC88F45319E0A54B83B4D642E9F79
RECURRENCE-ID:20141005
DTSTAMP:20260423T020356Z
DESCRIPTION:
		
			
				או לה לה &ndash; פסטיבל קומדיות צרפתיותהשנה היא 1942 מטוס קרב בריטי מופל מעל פריז שתחת הכיבוש הנאצי. שלושת הטייסים מצליחים להינצל ולמצוא מחסה - האחד בביתה של יפהפייה מקומית, השני בבית אופרה אותו מנהל מנצח התזמורת והשלישי מוצא מחסה בגן חיות. הצבא הגרמני יוצא למסע חיפוש אחר הטייסים הנמלטים שנעזרים בחברים כדי להגיע אל מקום מבטחים מעבר לגבול הצרפתי. יחד הם חווים מסע הרפתקאות מצחיק עד דמעות ברחבי צרפת. במשך שנים זה היה הסרט הצרפתי המצליח ביותר בהיסטוריה. עדיין כמעט 60 שנה אחרי הוא במקום השלישי.132 דקות, צרפתית, כתוביות בעברית.&nbsp;\"הצחוק הוא ההוכחה הגדולה ביותר לאינטליגנטיות\" &ndash; ויקטור הוגו צחוק ורגש יהיו בליבם של כל המסכים בסינמטקים השונים ברחבי הארץ החל מן ה27 בנובמבר ועד לחמישה בדצמבר, עם המהדורה ה-8 של פסטיבל הקומדיות הצרפתיות או לה לה! במהלך 8 שנות קיומו האיר האירוע הזה, שאין להחמיצו, את העושר והיצירתיות של סגנון הקומדיה הצרפתית. באמצעות סרטים חדשים, בכורות, הקרנת סרטים קלאסיים ואירועים מיוחדים.&nbsp; גם השנה יכול הקהל לחוות תוכנית עשירה הנעה בין הומור עדין, סאטירה חברתית, רומנטיקה וקומדיה לכל המשפחה. מסרט הפתיחה \"לעוזב יום אחד\", שנבחר לפסטיבל קאן 2025 ועד קלאסיקות אדירות כמו \"ההרפתקה הגדולה\" (האנגלים באים האנגלים באים\") ולאטלנט. וכמובן&nbsp; בכורות של סרטים עכשוויים להם אנחנו מצפים. מבחר הסרטים מבטיח מסע מענג אל ליבו של ההומור הצרפתי. \"לעזוב יום אחד\", סרט הפתיחה של פסטיבל קאן, סרטה של אמילי בונן בכיכובם של ג\'ולייט ארמנה ובסטיאן בולון הוא סרט עדין ומשעשע הבוחן את המפגש עם העבר והבחירות שאנו עושים בחיים, ההתלבטות בין חלומות אישיים ומסרות משפחתית. היצירות האגדתיות הן שיצרו וקבעו את ההומור הצרפתי, הפסטיבל מציע&nbsp; שתי דוגמאות למסורת הצרפתית. יצירתו של ז\'אן ויגו לאטלנט ,יצירת מופת פואטית ועל זמנית. ויצירתו של ג\'ראר אורי \"ההרפתקה הגדולה\" (האנגלים באים האנגלים באים) סרט קאלט על זמני בכיכוב הצמד בורביל ולואי דה פינס. לסיום יוכלו לצופים לגלות את סרט הנעילה \"מחר יהיה טוב\" בכיכובם של דידייה בורדון ואלזה זילברשטיין, סרטה של וינסיין מילרו. קומדיה מקורית המאמתת בני זוג משנות החמישים עם המציאות של 2025, מבט מצחיק ומרגש על שינויי זמנים, תפקודי משפחה והתפתחותה של החברה שלנו. פסטיבל או לה לה הוא&nbsp; הזדמנות ייחודית לחגוג את הקולנוע, לחלוק רגשות משותפים&nbsp; ולגלות את החיות של סגנון הקומדיה, אשר מתחת למעטה החיצוני הקליל שואל בעצם שאלות על חיינו ועל החברה בה אנו חיים. אנו מאחלים לכם פסטיבל מוצלח ומקווים שדרך המסעות הללו אל ליבו של ההומור נוכל להביא לכם כמה רגעים של מנוחה למרות המצב הקיים. 
			
			
				
			
		
		
SUMMARY:ההרפתקה הגדולה (האנגלים באים, האנגלים באים)
END:VEVENT
END:VCALENDAR