BEGIN:VCALENDAR
PRODID:-//Microsoft Corporation//Outlook 10.0 MIMEDIR//EN
VERSION:2.0
METHOD:PUBLISH
BEGIN:VEVENT
ORGANIZER:MAILTO:support@haifaff.co.il
DTSTART:20251129T11000000Z
DTEND:20251129T11000000Z
LOCATION:סרט ברפפורט, שד\' הנשיא 138 חיפה
TRANSP:OPAQUE
SEQUENCE:7
UID:040000008200E00074C5B7101A82E00800000000F0307E0C8FD5CF010000000000000000100
 00000CC88F45319E0A54B83B4D642E9F79
RECURRENCE-ID:20141005
DTSTAMP:20260423T020454Z
DESCRIPTION:
		
			
				או לה לה &ndash; פסטיבל קומדיות צרפתיותבפטיסט הוא חקיין מצוין, שאינו מצליח להתפרנס מהאמנות שלו. יום אחד הוא מקבל פנייה מפייר שוזן, סופר מפורסם אך דיסקרטי במיוחד. סוכנו הספרותי מטריד את מנוחתו באופן קבוע ומצלצל ללא הפסקה, בעוד שוזן זקוק לשקט כדי לכתוב את ספרו האמביציוזי ביותר. בייאושו, הוא מציע לבפטיסט להיות \"המשיבון\" שלו &mdash; לענות בשמו לשיחות טלפון. בהדרגה, בפטיסט לא רק מחקה את שוזן, אלא מתחיל להיכנס לנעליו ולנהל את חייו. זוכה פרס חביב הקהל בפסטיבל הקומדיות באלפ דוז.102 דקות, צרפתית, כתוביות בעברית.&nbsp;\"הצחוק הוא ההוכחה הגדולה ביותר לאינטליגנטיות\" &ndash; ויקטור הוגו צחוק ורגש יהיו בליבם של כל המסכים בסינמטקים השונים ברחבי הארץ החל מן ה27 בנובמבר ועד לחמישה בדצמבר, עם המהדורה ה-8 של פסטיבל הקומדיות הצרפתיות או לה לה! במהלך 8 שנות קיומו האיר האירוע הזה, שאין להחמיצו, את העושר והיצירתיות של סגנון הקומדיה הצרפתית. באמצעות סרטים חדשים, בכורות, הקרנת סרטים קלאסיים ואירועים מיוחדים.&nbsp; גם השנה יכול הקהל לחוות תוכנית עשירה הנעה בין הומור עדין, סאטירה חברתית, רומנטיקה וקומדיה לכל המשפחה. מסרט הפתיחה \"לעוזב יום אחד\", שנבחר לפסטיבל קאן 2025 ועד קלאסיקות אדירות כמו \"ההרפתקה הגדולה\" (האנגלים באים האנגלים באים\") ולאטלנט. וכמובן&nbsp; בכורות של סרטים עכשוויים להם אנחנו מצפים. מבחר הסרטים מבטיח מסע מענג אל ליבו של ההומור הצרפתי. \"לעזוב יום אחד\", סרט הפתיחה של פסטיבל קאן, סרטה של אמילי בונן בכיכובם של ג\'ולייט ארמנה ובסטיאן בולון הוא סרט עדין ומשעשע הבוחן את המפגש עם העבר והבחירות שאנו עושים בחיים, ההתלבטות בין חלומות אישיים ומסרות משפחתית. היצירות האגדתיות הן שיצרו וקבעו את ההומור הצרפתי, הפסטיבל מציע&nbsp; שתי דוגמאות למסורת הצרפתית. יצירתו של ז\'אן ויגו לאטלנט ,יצירת מופת פואטית ועל זמנית. ויצירתו של ג\'ראר אורי \"ההרפתקה הגדולה\" (האנגלים באים האנגלים באים) סרט קאלט על זמני בכיכוב הצמד בורביל ולואי דה פינס. לסיום יוכלו לצופים לגלות את סרט הנעילה \"מחר יהיה טוב\" בכיכובם של דידייה בורדון ואלזה זילברשטיין, סרטה של וינסיין מילרו. קומדיה מקורית המאמתת בני זוג משנות החמישים עם המציאות של 2025, מבט מצחיק ומרגש על שינויי זמנים, תפקודי משפחה והתפתחותה של החברה שלנו. פסטיבל או לה לה הוא&nbsp; הזדמנות ייחודית לחגוג את הקולנוע, לחלוק רגשות משותפים&nbsp; ולגלות את החיות של סגנון הקומדיה, אשר מתחת למעטה החיצוני הקליל שואל בעצם שאלות על חיינו ועל החברה בה אנו חיים. אנו מאחלים לכם פסטיבל מוצלח ומקווים שדרך המסעות הללו אל ליבו של ההומור נוכל להביא לכם כמה רגעים של מנוחה למרות המצב הקיים. 
			
			
				
			
		
		
SUMMARY:נחשו מי מתקשר
END:VEVENT
END:VCALENDAR