BEGIN:VCALENDAR
PRODID:-//Microsoft Corporation//Outlook 10.0 MIMEDIR//EN
VERSION:2.0
METHOD:PUBLISH
BEGIN:VEVENT
ORGANIZER:MAILTO:support@haifaff.co.il
DTSTART:20251210T19300000Z
DTEND:20251210T19300000Z
LOCATION:סינמטק חיפה, שד\' הנשיא 142, מרכז הכרמל
TRANSP:OPAQUE
SEQUENCE:7
UID:040000008200E00074C5B7101A82E00800000000F0307E0C8FD5CF010000000000000000100
 00000CC88F45319E0A54B83B4D642E9F79
RECURRENCE-ID:20141005
DTSTAMP:20260424T040746Z
DESCRIPTION:
		
			
				הופעה מיוחדתלאורה ריבלין - בעיר זרהשירים מקוריים, מונולוגים מטרידים על המצב וקאברים מפתיעים ללהיטים מוכרים\"מרהיב! מופע קרוב ובועט, שנון ומנוקד בהומור וברגעי חסד קטנים.. הרכב נגנים חגיגה\" הבמה, מרב יודילוביץ\'\"צחקתי, בכיתי, התרגשתי והתפעמתי! השירים, דברי הקישור, הנגנים והעיבודים עונג צרוף!\" גל\"צ, חני דינור\"אינטליגנטי ואלגנטי, אפל, מסתורי, שנון ומרגש, מפליא ושורט. לאורה, בשקט המאופק שלה, ממגנטת\" עמוס אורן, החיים הטובים\"ריבלין יודעת להגיש שיר. אווירה מעושנת, קצת בלוזית, ג\'אזית וקמצוץ שאנסון צרפתי, מנוגנת נפלא.. כמו באלבומים של טום ווייטס או מריאן פיית\'פול...\" ידיעות אחרונות, אמיר שוורץערב מוסיקלי של קברט אישי חריף. בקול מעושן וביכולת הגשה מהפנטת, לאורה שרה מחזור שירים מקוריים שכתבה מתוך התבוננות על חייה ועל האנשים שסביבה - שירים אותם ערכה עם נורית זרחי והלחין שאול בסר, בהפקה מוסיקלית של ימי ויסלר (הבילויים), ולצידם - מונולוגים נוקבים, מצחיקים ומצחיקים פחות על החיים והמצב, על המלחמה שנגמרה ואולי מתחילה אחרת והיומיום, וגם גרסאות כיסוי מפתיעות ללהיטים ישראליים מוכרים, הנצבעים אצל לאורה בצבעים חדשים.\"אני לא יודעת אם זאת המלחמה הזאת שסוף סוף נגמרה אבל מי יודע מה יהיה כאן אחריה, או הגיל שלי שמתעקש להמשיך לדהור קדימה עד לניצחון מוחלט, המחירים שמתייקרים וחיי אדם שנהיו זולים, אבל יש תחושה כזאת באוויר - של תחילת המערכה האחרונה, ואני לא יודעת מה איתכם, אבל אני כבר לא זוכרת איפה החבאתי את האקדח במערכה הראשונה..\" לאורה ריבלין, מתוך המופע  מילים ושירה: לאורה ריבלין * עריכה: נורית זרחי וימי ויסלר * לחנים וקלידים: שאול בסר * ניהול אמנותי, ועיבודים: ימי ויסלר * תופים: איתי ניצן * בס: עדי הר צבי  משך המופע: כ- 75 דקות כרטיס: רכישה מוקדמת - 85 ₪. ביום המופע - 95 ₪. מנוי סינמטק - 75 ₪.&nbsp;צילום: דִּינוֹזָאאוּרָה
			
			
				
			
		
		
SUMMARY:לאורה ריבלין - בעיר זרה
END:VEVENT
END:VCALENDAR