BEGIN:VCALENDAR
PRODID:-//Microsoft Corporation//Outlook 10.0 MIMEDIR//EN
VERSION:2.0
METHOD:PUBLISH
BEGIN:VEVENT
ORGANIZER:MAILTO:support@haifaff.co.il
DTSTART:20251205T19300000Z
DTEND:20251205T19300000Z
LOCATION:סינמטק חיפה, שד\' הנשיא 142, מרכז הכרמל
TRANSP:OPAQUE
SEQUENCE:7
UID:040000008200E00074C5B7101A82E00800000000F0307E0C8FD5CF010000000000000000100
 00000CC88F45319E0A54B83B4D642E9F79
RECURRENCE-ID:20141005
DTSTAMP:20260419T013528Z
DESCRIPTION:
		
			
				או לה לה &ndash; פסטיבל קומדיות צרפתיותהקרנת טרום בכורהאנטואן טוסן, זמר אגדי לשעבר בן שבעים, מאוכזב מן החיים ומחליט לקחת רכבת לז\'נבה כדי לשים קץ לקיומו. אך במסע זה הוא פוגש את ויקטואר &ndash; מעריצה נלהבת, אנרגטית וקצת בלתי צפויה &ndash; שמערערת את תכניותיו. ככל שהנסיעה מתארכת, השיחה ביניהם מתפתחת להתנגשות בין ייאוש לאופטימיות, בין לאות לשמחת חיים.המפגש המקרי מטלטל את אנטואן ומאלץ אותו לבחון מחדש את יחסו לעצמו ולעברו, ואף להצית מחדש את התשוקה לשיר, לאהוב ולחיות. בקצב קליל ומלא הומור, הסרט שוזר רגעים מרירים-מתוקים עם קסם רומנטי, ומעלה שאלות על משמעות החיים, על כוחם של מפגשים בלתי צפויים &ndash; ועל האפשרות להתחיל מחדש גם כשהכול נראה אבוד.90 דקות, צרפתית, כתוביות בעברית ובאנגלית.באדיבות קולנוע חדש
			
		
		
SUMMARY:צריך שניים לטנגו
END:VEVENT
END:VCALENDAR