BEGIN:VCALENDAR
PRODID:-//Microsoft Corporation//Outlook 10.0 MIMEDIR//EN
VERSION:2.0
METHOD:PUBLISH
BEGIN:VEVENT
ORGANIZER:MAILTO:support@haifaff.co.il
DTSTART:20260102T19300000Z
DTEND:20260102T19300000Z
LOCATION:סינמטק חיפה, שד\' הנשיא 142, מרכז הכרמל
TRANSP:OPAQUE
SEQUENCE:7
UID:040000008200E00074C5B7101A82E00800000000F0307E0C8FD5CF010000000000000000100
 00000CC88F45319E0A54B83B4D642E9F79
RECURRENCE-ID:20141005
DTSTAMP:20260422T083810Z
DESCRIPTION:
		
			
				הקרנת טרום בכורהישראל אחרי ה- 7 באוקטובר. י. מוזיקאי ג\'אז קשה יום ואשתו יסמין, פעם רקדנית, נותנים את אומנותם, נשמתם וגופם למרבה במחיר. מביאים עונג, בידור ונחמה למדינה המדממת. יום אחד י. מקבל משימה בעלת חשיבות עליונה, למצוא מלודיה להמנון לאומי חדש. הסרט הוקרן לראשונה בפסטיבל קאן 2025.149 דקות, עברית, אנגלית ורוסית, כתוביות בעברית.באדיבות טרנספקס הפקות.&nbsp;
			
		
		
SUMMARY:כן!
END:VEVENT
END:VCALENDAR