BEGIN:VCALENDAR
PRODID:-//Microsoft Corporation//Outlook 10.0 MIMEDIR//EN
VERSION:2.0
METHOD:PUBLISH
BEGIN:VEVENT
ORGANIZER:MAILTO:support@haifaff.co.il
DTSTART:20260225T18150000Z
DTEND:20260225T18150000Z
LOCATION:סרט ברפפורט, שד\' הנשיא 138 חיפה
TRANSP:OPAQUE
SEQUENCE:7
UID:040000008200E00074C5B7101A82E00800000000F0307E0C8FD5CF010000000000000000100
 00000CC88F45319E0A54B83B4D642E9F79
RECURRENCE-ID:20141005
DTSTAMP:20260422T043100Z
DESCRIPTION:
		
			
				מי מפחד משייקספיר?פרסי גלובוס הזהב לדרמה ולשחקניתאגנס, אשתו של ויליאם שייקספיר, נאבקת להשלים עם מות בנם היחיד, המנט. האבל הכבד מפלח את לבם ומסדק את הקשר ביניהם. שייקספיר מתעל את הטרגדיה ואת היגון לכתיבה ומוליד את יצירת המופת &ldquo;המלט&rdquo;.קלואי ז&rsquo;או זוכת האוסקר על סרטה \"ארץ הנוודים, משרטטת במסירות ובדיוק פסיכולוגי סיפור מרגש על אהבה, כאב וכוחן של אמנות ויצירה לרפא ולחולל.הסרט זכה בפרסי גלובוס הזהב לדרמה הטובה ביותר ולשחקנית ונחשב אחד המועמדים הבולטים בתחרות האוסקר הקרובה.125 דקות, אנגלית, כתוביות בעברית.
			
		
		
SUMMARY:המנט
END:VEVENT
END:VCALENDAR