BEGIN:VCALENDAR
PRODID:-//Microsoft Corporation//Outlook 10.0 MIMEDIR//EN
VERSION:2.0
METHOD:PUBLISH
BEGIN:VEVENT
ORGANIZER:MAILTO:support@haifaff.co.il
DTSTART:20260311T20150000Z
DTEND:20260311T20150000Z
LOCATION:סרט ברפפורט, שד\' הנשיא 138 חיפה
TRANSP:OPAQUE
SEQUENCE:7
UID:040000008200E00074C5B7101A82E00800000000F0307E0C8FD5CF010000000000000000100
 00000CC88F45319E0A54B83B4D642E9F79
RECURRENCE-ID:20141005
DTSTAMP:20260424T041811Z
DESCRIPTION:
		
			
				מרץ נשיהקרנת טרום בכורהצרפת של שנות ה-50. הלן ומישל חיים בשלווה בעולם מוכר, שבו לכל אחד תפקיד ברור &ndash; הוא המפרנס, היא עקרת הבית המסורה. אבל בוקר אחד הם מתעוררים בשנת 2025, בעידן של שוויון מגדרי, טכנולוגיה חודרת-כול, ומוסכמות חברתיות חדשות לגמרי. מבולבלים, מבוהלים ולעיתים נלהבים, הם נאלצים ללמוד מחדש מהי אהבה, משפחה ומעמד &ndash; בעולם שבו כללי המשחק השתנו.וינסיאן מילרו מגיש מראה מבודחת אך עוקצנית לחברה הצרפתית, ולשאלה הנצחית &ndash; האם באמת היה טוב יותר פעם, או שפשוט היינו צעירים יותר.103 דקות, צרפתית, כתוביות בעברית.באדיבות רד קייפ.
			
		
		
SUMMARY:מחר יהיה טוב
END:VEVENT
END:VCALENDAR