BEGIN:VCALENDAR
PRODID:-//Microsoft Corporation//Outlook 10.0 MIMEDIR//EN
VERSION:2.0
METHOD:PUBLISH
BEGIN:VEVENT
ORGANIZER:MAILTO:support@haifaff.co.il
DTSTART:20260428T20000000Z
DTEND:20260428T20000000Z
LOCATION:סינמטק חיפה, שד\' הנשיא 142, מרכז הכרמל
TRANSP:OPAQUE
SEQUENCE:7
UID:040000008200E00074C5B7101A82E00800000000F0307E0C8FD5CF010000000000000000100
 00000CC88F45319E0A54B83B4D642E9F79
RECURRENCE-ID:20141005
DTSTAMP:20260419T060547Z
DESCRIPTION:
		
			
				מרץ נשי: אמה מקייהאחיות ברונטה: בין גבהים לכתיבהסיפורה של הסופרת אמילי ברונטה. העולם החליט עבור אמילי שהיא חייבת להיות צייתנית, שקטה ונעימת הליכות. אסור לה לומר את שעל ליבה, לחלוק עם אחרים את מחשבותיה וחלומותיה. ולמרות זאת, אמילי היא אישה יצרית, עוצמתית וחייתית. הרגשות סוערים בה, הקול שלה מתחנן להישמע, הרעיונות שלה גודשים את מוחה. היא אינה מתכוונת לציית לסביבתה. בכוותה להוכיח לעולם כולו כי לכשרונה אין סוף.130 דקות, אנגלית, כתוביות בעברית.
			
		
		
SUMMARY:אמילי
END:VEVENT
END:VCALENDAR