BEGIN:VCALENDAR
PRODID:-//Microsoft Corporation//Outlook 10.0 MIMEDIR//EN
VERSION:2.0
METHOD:PUBLISH
BEGIN:VEVENT
ORGANIZER:MAILTO:support@haifaff.co.il
DTSTART:20260501T12000000Z
DTEND:20260501T12000000Z
LOCATION:סינמטק חיפה, שד\' הנשיא 142, מרכז הכרמל
TRANSP:OPAQUE
SEQUENCE:7
UID:040000008200E00074C5B7101A82E00800000000F0307E0C8FD5CF010000000000000000100
 00000CC88F45319E0A54B83B4D642E9F79
RECURRENCE-ID:20141005
DTSTAMP:20260421T115820Z
DESCRIPTION:
		
			
				פסטיבל חיפה ה-19 לסרטי פועליםכל העם חזיתטקס הענקת \"אות סיקור עבודה מאורגנת וזכויות עובדים\" לשנת 2026הפרס מוענק ע\"י \'כוח לעובדים - ארגון עובדים דמוקרטי\' במסגרת פסטיבל חיפה לסרטי פועלים בעבור מצוינות בסיקור וקידום השיח הביקורתי על עולם העבודה הישראלי.הפרס מוענק השנה לקרן נויבך ולצוות התוכנית \"סדר יום\" מתאגיד השידור הציבורי - כאן.לאחר הענקת הפרס ושיחה קצרה עם הזוכה יוקרן הסרט:הקרנת טרום בכורהקולנוע ישראלי מילה חוזרת הביתה אחרי שנים כדי לבקר את בתה הצעירה, קאשה, סוף-סוף מחוץ למסך הטלפון. היא נאלצת לעזוב זמנית את הווילה שבה היא עובדת על שפת הים בקיסריה הנוצצת, ואת הרומן המרגש והסודי שרקמה בישראל. כבר שנים שמילה עובדת כדי לבנות את עתיד משפחתה, שנשארה מאחור בכפר עני בפולין, אך כשהיא חוזרת הביתה מתגלה לה מציאות שונה לגמרי מזו שדִמיינה. היא בעיקר מבינה שאף אחד לא חיכה לה שם. מילה מחליטה לצאת למאבק כדי להתאים את המציאות לציפיותיה. היא מנסה לשקם את מה שאבד ולהשיב לעצמה את השליטה בחייה. לבסוף תיאלץ להכיר במחירן של הבחירות שלה.93 דקות, עברית ופולנית, כתוביות בעברית.באדיבות סרטי נחשון.
			
		
		
SUMMARY:מאמא
END:VEVENT
END:VCALENDAR