BEGIN:VCALENDAR
PRODID:-//Microsoft Corporation//Outlook 10.0 MIMEDIR//EN
VERSION:2.0
METHOD:PUBLISH
BEGIN:VEVENT
ORGANIZER:MAILTO:support@haifaff.co.il
DTSTART:20260501T19000000Z
DTEND:20260501T19000000Z
LOCATION:סינמטק חיפה, שד\' הנשיא 142, מרכז הכרמל
TRANSP:OPAQUE
SEQUENCE:7
UID:040000008200E00074C5B7101A82E00800000000F0307E0C8FD5CF010000000000000000100
 00000CC88F45319E0A54B83B4D642E9F79
RECURRENCE-ID:20141005
DTSTAMP:20260421T115004Z
DESCRIPTION:
		
			
				פסטיבל חיפה ה-19 לסרטי פועליםכל העם חזיתהקרנת טרום בכורהסטפני, חוקרת מח\"ש בפריז, ידועה בנחישותה הבלתי מתפשרת - גם כשזה עולה לה ביוקר אישי ומקצועי. פנייה של אם מודאגת, שבנה נפצע קשה במהלך הפגנה, מציתה חקירה שמובילה את סטפני אל לב אזור אפל ומורכב של כוח, שתיקה ונאמנות. ככל שהיא מתקרבת לתשובות, כך מתחדד המחיר של חשיפתן,&nbsp; והשאלה עד כמה רחוק כדאי ללכת כדי לגלות את האמת.דרמה סוחפת, מדויקת ורבת רגש, שמציבה במרכזה דמות נשית חזקה ונוגעת ללב, ונעה בין מתח עוצר נשימה לבין מבט אנושי עמוק. הסרט השתתף בתחרות הרשמית של פסטיבל קאן והוקרן גם בפסטיבל הקולנוע בירושלים.115 דקות, צרפתית, כתוביות בעברית ובאנגלית.באדיבות בתי קולנוע לב.בתום ההקרנה תיערך שיחה עם ח\"כ נעמה לזימי ועו\"ד גבי לסקי בהנחיית רפי קמחי מייסד ומפיק במשותף של הפסטיבל בנושא משטר, משטרה ומה שביניהם.
			
		
		
SUMMARY:תיק 137
END:VEVENT
END:VCALENDAR