BEGIN:VCALENDAR
PRODID:-//Microsoft Corporation//Outlook 10.0 MIMEDIR//EN
VERSION:2.0
METHOD:PUBLISH
BEGIN:VEVENT
ORGANIZER:MAILTO:support@haifaff.co.il
DTSTART:20260502T20000000Z
DTEND:20260502T20000000Z
LOCATION:סרט ברפפורט, שד\' הנשיא 138 חיפה
TRANSP:OPAQUE
SEQUENCE:7
UID:040000008200E00074C5B7101A82E00800000000F0307E0C8FD5CF010000000000000000100
 00000CC88F45319E0A54B83B4D642E9F79
RECURRENCE-ID:20141005
DTSTAMP:20260421T114835Z
DESCRIPTION:
		
			
				פסטיבל חיפה ה-19 לסרטי פועלים: כל העם חזיתלפני ההקרנה תתקיים הרצאה קצרה של יוליה חני רוזנברג אחות במחלקה הנוירולוגית בבית החולים בני ציון ומדריכה קלינית בבית הספר האקדמי לאחיות ע\'\'ש ד\'\'ר זיידה, ליד המרכז הרפואי בני ציון.הקרנת טרום בכורהפסטיבל הסרטים חיפההסרט היה מועמד שוויץ לפרס האוסקר. הוקרן בפסטיבל ברלין ובפסטיבל הסרטים חיפה, שם זכה בפרס הסרט הטוב ביותר בתחרות \'עוגן הזהב\'.פלוריה עובדת כאחות חדר ניתוח באחד מבתי החולים הבכירים בציריך. העבודה במחלקה תמיד לחוצה ומלחיצה, עם מחסור תמידי בכוח אדם ומימון, אבל הערב פלוריה גם נדרשת להשלים עבודה של קולגה חולה וגם לפקח על אחות מתלמדת. פלוריה מתמודדת בשלווה הרגילה שלה, עם חיוך, עד שהיא עושה טעות קטנה בשיקול דעת במציאות שאין בה מקום לטעות, ומוצאת עצמה במרוץ מורט עצבים נגד השעון. הבימוי המהודק של וולפה והמשחק של לאוני בנש (\"חדר מורים\", פסטיבל חיפה 2023) לוקחים אותנו למסע מסחרר, עוצר נשימה, אך מלא אנושיות ואפילו הומור.92 דקות גרמנית שווייצרית וגרמנית, כתוביות בעברית ובאנגלית.באדיבות קולנוע חדש.
			
		
		
SUMMARY:משמרת מאוחרת
END:VEVENT
END:VCALENDAR