BEGIN:VCALENDAR
PRODID:-//Microsoft Corporation//Outlook 10.0 MIMEDIR//EN
VERSION:2.0
METHOD:PUBLISH
BEGIN:VEVENT
ORGANIZER:MAILTO:support@haifaff.co.il
DTSTART:20260503T18150000Z
DTEND:20260503T18150000Z
LOCATION:סינמטק חיפה, שד\' הנשיא 142, מרכז הכרמל
TRANSP:OPAQUE
SEQUENCE:7
UID:040000008200E00074C5B7101A82E00800000000F0307E0C8FD5CF010000000000000000100
 00000CC88F45319E0A54B83B4D642E9F79
RECURRENCE-ID:20141005
DTSTAMP:20260422T120619Z
DESCRIPTION:
		
			
				אפוס 17 - הפסטיבל לסרטי תרבות ואמנותהקרנת טרום בכורהמרטין שלר הוא צלם פורטרטים מהנחשבים והמוערכים בעולם, שהתפרסם בזכות צילומים&nbsp; עוצמתיים וקרובים במיוחד. הוא צילם את ברק אובמה ואת דונלד טראמפ, את טיילור סוויפט ואת ליידי גאגא ועוד מאות מנהיגים וכוכבי עולם. אבל שלר מתעד גם אנשי שוליים שקופים, שהחברה האמריקאית והעולם מעדיפים להדחיק את קיומם, ובכך מתמקד הסרט הזה.מצלמת הקולנוע מתעדת את פגישותיו של שלר עם אנשי השוליים: דרי רחוב, ניצולי גזר דין מוות, מכורים ומכורות לסמים, חסרי כל. מהשיחות שהוא מקיים איתם נראה שבאמת אכפת לו ממושאי צילומיו, וחשוב לו להעביר את&nbsp; האנושיות העמוקה של כל אחד ואחת מהם. וכאשר צילום הדיוקן מוצג לפנינו על מסך הקולנוע, התחושה היא ששלר אכן הצליח להעביר את הסבל, את הכאב ואת ההבנה שמבעד לעדשה, כולנו דומים יותר ממה שנדמה לנו.87 דקות, אנגלית וגרמנית, כתוביות בעברית.באדיבות פסטיבל אפוס.בשל המלחמה פסטיבל אפוס נדחה מחודש אפריל לחודש ספטמבר וזו הזדמנות חד פעמית לצפות בסרטים בהקרנת טרום בכורה.
			
		
		
SUMMARY:הדם של כולנו אדום
END:VEVENT
END:VCALENDAR