BEGIN:VCALENDAR
PRODID:-//Microsoft Corporation//Outlook 10.0 MIMEDIR//EN
VERSION:2.0
METHOD:PUBLISH
BEGIN:VEVENT
ORGANIZER:MAILTO:support@haifaff.co.il
DTSTART:20260510T20300000Z
DTEND:20260510T20300000Z
LOCATION:סינמטק חיפה, שד\' הנשיא 142, מרכז הכרמל
TRANSP:OPAQUE
SEQUENCE:7
UID:040000008200E00074C5B7101A82E00800000000F0307E0C8FD5CF010000000000000000100
 00000CC88F45319E0A54B83B4D642E9F79
RECURRENCE-ID:20141005
DTSTAMP:20260421T115904Z
DESCRIPTION:
		
			
				פסטיבל הקולנוע הצרפתימעבר למסך: בריז\'יט בארדוסרטו הראשון של הבמאי הצרפתי רוז\'ה ואדים, שהפך לאבן דרך בקולנוע הצרפתי והביא למסך את אחת מאלילותיו הגדולות - בריג\'יט בארדו. הסרט מתאר סיפור אהבה על רקע נופי סאן טרופה, ומציג את בארדו כצעירה נועזת המעדיפה שיזוף בעירום וגברים צעירים ושחומים על פני עבודה כזבנית ומאהב מבוגר. נחשב בזמנו לאחד הסרטים הנועזים ביותר, והוא פרץ את הדרך שאפשרה לבמאי הגל החדש לעסוק בחיי הדור הצעיר ובעולמו בצרפת.87 דקות, צרפתית, כתוביות בעברית.&nbsp;מחווה לבריז\'יט בארדו בארדו הייתה שחקנית שהפכה לאייקון תרבותי ודמות קאלט כבר בשנות ה-50 וה-60. היא הפכה לסמל היופי הצרפתי שפרץ הרבה מעבר לגבולות צרפת, בזכות קסם אישי שהיה לעיתים חושני ולעיתים שובב.בריז\'יט בארדו הלכה לעולמה ב-28 בדצמבר 2025. הקריירה הקולנועית שלה נמשכה כ-21 שנים, עד שהחליטה לפרוש בשיא הצלחתה בשנת 1973 כדי להקדיש את חייה למען בעלי החיים. במהלך שנים אלו הופיעה ב-47 סרטים והקליטה עשרות שירים. \"ב.ב\" הייתה מוזה שעוצבה על ידי הדמויות ההדוניסטיות והמשוחררות שגילמה &ndash; דמויות שהפכו אותה לאחד הסמלים המרכזיים של המהפכה המינית.
			
			
				
			
		
		
SUMMARY:ואלוהים ברא את האישה
END:VEVENT
END:VCALENDAR