BEGIN:VCALENDAR
PRODID:-//Microsoft Corporation//Outlook 10.0 MIMEDIR//EN
VERSION:2.0
METHOD:PUBLISH
BEGIN:VEVENT
ORGANIZER:MAILTO:support@haifaff.co.il
DTSTART:20260511T18000000Z
DTEND:20260511T18000000Z
LOCATION:סינמטק חיפה, שד\' הנשיא 142, מרכז הכרמל
TRANSP:OPAQUE
SEQUENCE:7
UID:040000008200E00074C5B7101A82E00800000000F0307E0C8FD5CF010000000000000000100
 00000CC88F45319E0A54B83B4D642E9F79
RECURRENCE-ID:20141005
DTSTAMP:20260421T114844Z
DESCRIPTION:
		
			
				מעבר למסך: איזבל הופרדיוקן סאטירי מבריק של משפחה בורגנית אירופאית אחת &ndash; האם, ראש המשפחה שמנסה לשמור על מראית עין מכובדת בכל מחיר; אביה, ענק תעשייה לשעבר, עכשיו עייף, מתוסכל וקצר רוח; בנה, שנדמה שאף פעם לא מסוגל לעשות את הדבר הנכון; ואחיה, שמקבל משמורת על ביתו מנישואים קודמים ומסתיר לא מעט סודות במחשב שלו. כולם ביחד וכל אחד בנפרד &ndash; האם יכול להיות לסיפור הזה סוף טוב?מיכאל הנקה, אחד הבמאים המוערכים בעולם שגרף פעמיים את פרס האוסקר (\"סרט לבן\", \"אהבה\") חוזר, בסרט זה הוא משלב כוחות עם אחת מהשחקניות הגדולות של צרפת, איזבל הופר.107 דקות, צרפתית, כתוביות בעברית.
			
		
		
SUMMARY:סוף טוב
END:VEVENT
END:VCALENDAR