BEGIN:VCALENDAR
PRODID:-//Microsoft Corporation//Outlook 10.0 MIMEDIR//EN
VERSION:2.0
METHOD:PUBLISH
BEGIN:VEVENT
ORGANIZER:MAILTO:support@haifaff.co.il
DTSTART:20260512T18300000Z
DTEND:20260512T18300000Z
LOCATION:סינמטק חיפה, שד\' הנשיא 142, מרכז הכרמל
TRANSP:OPAQUE
SEQUENCE:7
UID:040000008200E00074C5B7101A82E00800000000F0307E0C8FD5CF010000000000000000100
 00000CC88F45319E0A54B83B4D642E9F79
RECURRENCE-ID:20141005
DTSTAMP:20260422T120829Z
DESCRIPTION:
		
			
				שלישי ישראלי: סרט ומפגשבצל הקריירה המרשימה כאלופת העולם באגרוף תאילנדי, נילי מתמודדת עם ויתורים על חלומות אישיים כמו זוגיות ומשפחה ועם מסע לגיבוש זהותה מחוץ לזירה. הסובבים אותה, שחיים במידה רבה בצל הצלחתה, מתקשים לראות את המחיר שגובה ממנה הדרך. הקשר הקרוב עם המאמן, שמעניק תחושת ביטחון והצלחה, גם מזמן אתגרים ומורכבויות שמעמידים אותה במבחן. בזמן שהיא מתכוננת לתחרות החשובה בקריירה שלה, נילי מגלה שלפעמים הקרבות המשמעותיים ביותר מתרחשים דווקא מחוץ לזירה.75 דקות, עברית ואנגלית, כתוביות בעברית ובאנגלית.לאחר ההקרנה תתקיים שיחה עם הבמאית טל קושנר.
			
		
		
SUMMARY:הקרבות של נילי
END:VEVENT
END:VCALENDAR