BEGIN:VCALENDAR
PRODID:-//Microsoft Corporation//Outlook 10.0 MIMEDIR//EN
VERSION:2.0
METHOD:PUBLISH
BEGIN:VEVENT
ORGANIZER:MAILTO:support@haifaff.co.il
DTSTART:20260513T18150000Z
DTEND:20260513T18150000Z
LOCATION:סינמטק חיפה, שד\' הנשיא 142, מרכז הכרמל
TRANSP:OPAQUE
SEQUENCE:7
UID:040000008200E00074C5B7101A82E00800000000F0307E0C8FD5CF010000000000000000100
 00000CC88F45319E0A54B83B4D642E9F79
RECURRENCE-ID:20141005
DTSTAMP:20260421T114916Z
DESCRIPTION:
		
			
				מרץ נשי: איזבל הופראיזבל, נזירה לשעבר, קיבלה מסר מאלוהים שעליה לעזוב את חיי הקדושה כדי להתחבר אל המציאות וחיי היום-יום והפכה לסופרת ארוטית. יום אחד היא מוצאת בחור ששוכב בשולי הכביש. הוא שכח לחלוטין את עברו והיא אוספת אותו לביתה. יחד הם יוצאים למסע עירוני של גילוי והגאולה. דרמה פילוסופית חכמה ואינטליגנטית מהולה בפשע, בסגנונו הייחודי של הארטלי, עם איזבל הופר הנפלאה תמיד. הסרט זכה בפרס פסטיבל טוקיו 1994.105 דקות, אנגלית, כתוביות בעברית.
			
		
		
SUMMARY:חובבים
END:VEVENT
END:VCALENDAR