BEGIN:VCALENDAR
PRODID:-//Microsoft Corporation//Outlook 10.0 MIMEDIR//EN
VERSION:2.0
METHOD:PUBLISH
BEGIN:VEVENT
ORGANIZER:MAILTO:support@haifaff.co.il
DTSTART:20260514T18000000Z
DTEND:20260514T18000000Z
LOCATION:סינמטק חיפה, שד\' הנשיא 142, מרכז הכרמל
TRANSP:OPAQUE
SEQUENCE:7
UID:040000008200E00074C5B7101A82E00800000000F0307E0C8FD5CF010000000000000000100
 00000CC88F45319E0A54B83B4D642E9F79
RECURRENCE-ID:20141005
DTSTAMP:20260421T115120Z
DESCRIPTION:
		
			
				מרץ נשי: איזבל הופרשלוש שנים אחרי מותה הפתאומי של איזבל פריד, צלמת עיתונות מפורסמת ועטורת פרסים, מתארגנת לזכרה תערוכה גדולה. בעלה, ושני ילדיה - האחד תלמיד תיכון מהורהר ומופנם, והשני פרופסור צעיר ואב טרי - מתאספים יחד לכבוד המאורע. השלושה יתבוננו במחדש ביחסים המשפחתיים הפרומים, אלא שהדרך לתיקון והחלמה אינה פשוטה כלל וכלל.109 דקות, אנגלית, כתוביות בעברית.
			
		
		
SUMMARY:השקט שבפנים
END:VEVENT
END:VCALENDAR