BEGIN:VCALENDAR
PRODID:-//Microsoft Corporation//Outlook 10.0 MIMEDIR//EN
VERSION:2.0
METHOD:PUBLISH
BEGIN:VEVENT
ORGANIZER:MAILTO:support@haifaff.co.il
DTSTART:20260515T17000000Z
DTEND:20260515T17000000Z
LOCATION:סינמטק חיפה, שד\' הנשיא 142, מרכז הכרמל
TRANSP:OPAQUE
SEQUENCE:7
UID:040000008200E00074C5B7101A82E00800000000F0307E0C8FD5CF010000000000000000100
 00000CC88F45319E0A54B83B4D642E9F79
RECURRENCE-ID:20141005
DTSTAMP:20260423T100737Z
DESCRIPTION:
		
			
				מעבר למסך: ויקי קריפסקורי, מתאמת צרפתייה להשתלות לב בילדים, מגיעה ליפן &ndash; מדינה שבה תרומת איברים עדיין מלווה ברגישויות עמוקות ומחסומים תרבותיים. כאשר חיי ילד קטן תלויים על כף המאזניים, היא נדרשת לנווט בעדינות בין כאב של משפחות, תקווה שברירית, והלחץ הבלתי פוסק של הזמן. אך דווקא כשהיא נדרשת להיות עבור אחרים עוגן של יציבות וחמלה, עולמה האישי מתערער: בן זוגה ג&rsquo;ין, צלם מהאי יאקושימה, נעלם ללא עקבות. היעלמותו מותירה אותה קרועה בין מחויבותה להצלת חיים לבין כאב פרטי עמוק,&nbsp; מסע של חיפוש אחר אדם אהוב, ואולי גם אחר משמעות בתוך אובדן.על רקע נופיו הקדומים והמהפנטים של האי, יוצרת הבמאית נעמי קוואסה, מהקולות הבולטים והפיוטיים של הקולנוע היפני העכשווי, דיוקן רגיש של בני אדם הנפגשים בנקודות הקצה של החיים, שם זרים הופכים לרגע למשפחה, ושם חמלה הופכת לכוח שמחזיק הכול יחד. בהופעות עדינות של ויקי קריפס וקניצ\'ירו, זהו סרט על הקשבה, על קרבה אנושית, ועל היכולת להמשיך לאהוב.122 דקות, יפנית, כתוביות בעברית.
			
		
		
SUMMARY:האשליה של יקושימה
END:VEVENT
END:VCALENDAR