BEGIN:VCALENDAR
PRODID:-//Microsoft Corporation//Outlook 10.0 MIMEDIR//EN
VERSION:2.0
METHOD:PUBLISH
BEGIN:VEVENT
ORGANIZER:MAILTO:support@haifaff.co.il
DTSTART:20260517T18000000Z
DTEND:20260517T18000000Z
LOCATION:סינמטק חיפה, שד\' הנשיא 142, מרכז הכרמל
TRANSP:OPAQUE
SEQUENCE:7
UID:040000008200E00074C5B7101A82E00800000000F0307E0C8FD5CF010000000000000000100
 00000CC88F45319E0A54B83B4D642E9F79
RECURRENCE-ID:20141005
DTSTAMP:20260422T120829Z
DESCRIPTION:
		
			
				מעבר למסך: ויקי קריפס&ldquo;נדמה כי מדובר בסיפור על אישה שעזבה&rdquo; - אך מתוך המשפט הפשוט הזה נרקם סרט עדין ועמוק על אהבה, אובדן והכוח להמשיך הלאה. במרכז הסרט אישה ואם לשניים, בגילומה המרגש של ויקי קריפס (״חוטים נסתרים״), הנעה בין זיכרונות, כמיהות ורגעים קטנים של חסד. דרך שברי זמן ותמונות חמקמקות, מתגלה בהדרגה סיפור על קשרים שאינם מתנתקים &mdash; גם כשהמרחק נדמה בלתי ניתן לגישור.סרטו של מתייה אמלריק הוא יצירה אינטימית, לירית ומלאת חמלה, שמבקשת פחות להסביר ויותר להרגיש. הצילום הרגיש והעריכה המדויקת יוצרים יחד חוויה עדינה ומהפנטת, שנשארת עם הצופה זמן רב לאחר סיומה.97 דקות, צרפתית, כתוביות בעברית.
			
		
		
SUMMARY:אחוז בי חזק
END:VEVENT
END:VCALENDAR