BEGIN:VCALENDAR
PRODID:-//Microsoft Corporation//Outlook 10.0 MIMEDIR//EN
VERSION:2.0
METHOD:PUBLISH
BEGIN:VEVENT
ORGANIZER:MAILTO:support@haifaff.co.il
DTSTART:20260517T20000000Z
DTEND:20260517T20000000Z
LOCATION:סינמטק חיפה, שד\' הנשיא 142, מרכז הכרמל
TRANSP:OPAQUE
SEQUENCE:7
UID:040000008200E00074C5B7101A82E00800000000F0307E0C8FD5CF010000000000000000100
 00000CC88F45319E0A54B83B4D642E9F79
RECURRENCE-ID:20141005
DTSTAMP:20260421T114833Z
DESCRIPTION:
		
			
				פסטיבל הקולנוע הצרפתימרץ נשי: בריז\'יט בארדוסרטו של ז&rsquo;אן-לוק גודאר הוא אחת הפסגות של הגל החדש הצרפתי של שנות ה-60: דרמה פיוטית וחדה על היחסים בין אמנות, אהבה וקולנוע. מישל פיקולי מגלם תסריטאי הנקלע למשבר נישואין בזמן שהוא מתבקש לעבד את \"האודיסאה\" לסרט הוליוודי, בהפקה גרנדיוזית שמביים פריץ לאנג (שמגלם את עצמו). בריז&rsquo;יט בארדו, שהייתה אז בשיא תהילתה, מגלמת את אשתו של פיקולי. דרך העימותים בין יוצר לאולפן, בין גבר לאישה, ובין אירופה לאמריקה, בוחן גודאר את מהות הקולנוע עצמו כמרחב שבו תשוקה ובגידה, יופי ומסחריות שזורים זה בזה. \"הבוז\" (שהופץ בארץ בתחילה תחת השם המשונה \"הגוף והלב\") הוא סרט על האפשרות, ואולי חוסר האפשרות, לאהוב באמת וליצור באמת.מומלץ מגיל 16 ומעלה.103 דקות, צרפתית, כתוביות בעברית.&nbsp;מחווה לבריז\'יט בארדו בארדו הייתה שחקנית שהפכה לאייקון תרבותי ודמות קאלט כבר בשנות ה-50 וה-60. היא הפכה לסמל היופי הצרפתי שפרץ הרבה מעבר לגבולות צרפת, בזכות קסם אישי שהיה לעיתים חושני ולעיתים שובב.בריז\'יט בארדו הלכה לעולמה ב-28 בדצמבר 2025. הקריירה הקולנועית שלה נמשכה כ-21 שנים, עד שהחליטה לפרוש בשיא הצלחתה בשנת 1973 כדי להקדיש את חייה למען בעלי החיים. במהלך שנים אלו הופיעה ב-47 סרטים והקליטה עשרות שירים. \"ב.ב\" הייתה מוזה שעוצבה על ידי הדמויות ההדוניסטיות והמשוחררות שגילמה &ndash; דמויות שהפכו אותה לאחד הסמלים המרכזיים של המהפכה המינית.
			
			
				
			
		
		
SUMMARY:הבוז
END:VEVENT
END:VCALENDAR